BEGIN:VCALENDAR
VERSION:2.0
PRODID:icalendar-ruby
CALSCALE:GREGORIAN
BEGIN:VEVENT
DTSTAMP:20260420T135130Z
UID:10a3bf0e-ead5-4cfc-9d27-c118ae7d1f71
DTSTART;TZID=Pacific/Auckland:20260419T120000
DTEND;TZID=Pacific/Auckland:20260419T123000
DESCRIPTION:Property ID# 606434
SUMMARY:Openhome for 30 Seabreeze Place
END:VEVENT
END:VCALENDAR
